Workbook
Name _Toc154458715_2: #REF!
Name _Toc154458715_2: #REF!
Name _Toc154458715_2: #REF!
Name _Toc154458715_2: #REF!
Name _Toc154458715_2: #REF!
Name _Toc154458716_2: #REF!
Name _Toc154458716_2: #REF!
Name _Toc154458716_2: #REF!
Name _Toc154458716_2: #REF!
Name _Toc154458716_2: #REF!
Name _Toc154458724_2: #REF!
Name _Toc154458724_2: #REF!
Name _Toc154458724_2: #REF!
Name _Toc154458724_2: #REF!
Name _Toc154458724_2: #REF!
Name _Toc157855727_2: #REF!
Name _Toc157855727_2: #REF!
Name _Toc157855727_2: #REF!
Name _Toc157855727_2: #REF!
Name _Toc157855727_2: #REF!
Name _Toc157855730_2: #REF!
Name _Toc157855730_2: #REF!
Name _Toc157855730_2: #REF!
Name _Toc157855730_2: #REF!
Name _Toc157855730_2: #REF!
Name _Toc157855731_2: #REF!
Name _Toc157855731_2: #REF!
Name _Toc157855731_2: #REF!
Name _Toc157855731_2: #REF!
Name _Toc157855731_2: #REF!
Name _Toc157855732_2: #REF!
Name _Toc157855732_2: #REF!
Name _Toc157855732_2: #REF!
Name _Toc157855732_2: #REF!
Name _Toc157855732_2: #REF!
Name _Toc157855733_2: #REF!
Name _Toc157855733_2: #REF!
Name _Toc157855733_2: #REF!
Name _Toc157855733_2: #REF!
Name _Toc157855733_2: #REF!
Name _Toc157855734_2: #REF!
Name _Toc157855734_2: #REF!
Name _Toc157855734_2: #REF!
Name _Toc157855734_2: #REF!
Name _Toc157855734_2: #REF!

Sheet General Mandatory Questions
B1: General Questions | C1: Brief response and/or reference
A4: 1 | B4: Did you complete the worksheet for the proposed configuration Standard Blade server, with a break-down of all components? | C4: Yes/No (mandatory)
A5: 2 | B5: Did you complete the worksheet for the proposed configuration Standard Blade server, with a list of available options? | C5: Yes/No (mandatory)
A6: 3 | B6: Did you provide a separate pricing for the blade and its enclosure for the proposed Standard Blade configuration? | C6: Yes/No (mandatory)
A7: 4 | B7: Did you provide the 'Maximum number of the proposed Standard Blade server that can be hosted in the proposed enclosure/chassis'? | C7: Yes/No (mandatory)
A8: 5 | B8: Did you provide a separate pricing for the hardware and for the installation for the proposed configuration Standard Blade server? | C8: Yes/No (mandatory)
A9: 6 | B9: Did you complete the worksheet for the proposed configuration Standard 2 sockets rackable server, with a break-down of all components? | C9: Yes/No (mandatory)
A10: 7 | B10: Did you complete the worksheet for the proposed configuration Standard 2 sockets rackable, with a list of available options? | C10: Yes/No (mandatory)
A11: 8 | B11: Did you provide a separate pricing for the hardware and for the installation for the proposed configuration Standard 2 sockets rackable? | C11: Yes/No (mandatory)
A12: 9 | B12: Did you complete the worksheet for the proposed configuration Advanced 2 sockets rackable server, with a break-down of all components? | C12: Yes/No (mandatory)
A13: 10 | B13: Did you complete the worksheet for the proposed configuration Advanced 2 sockets rackable, with a list of available options? | C13: Yes/No (mandatory)
A14: 11 | B14: Did you provide a separate pricing for the hardware and for the installation for the proposed configuration Advanced 2 sockets rackable? | C14: Yes/No (mandatory)
A15: 12 | B15: Did you complete the worksheet for the proposed configuration Standard 4 sockets rackable server, with a break-down of all components? | C15: Yes/No (mandatory)
... A32: 29 | B32: Did you complete the worksheet for the 'Media Sanitization HIGH' by indicating the requested prices? | C32: Yes/No (mandatory)

Sheet Instructions
A1: INSTRUCTION SHEET
A2: The tenderer has to fill in all the relevant YELLOW fields in the following excel sheets. REMARK: no field should be filled in by the tenderer in the Summary sheet.
A6: It is forbidden to change the structure of the tables, except when explicitly mentioned otherwise.

Sheet Manufacturer Guarantee
B2: Description of the Manufacturer Guarantee
B4: In derogation of Article 3.4 of the General Terms and Conditions for Information Technologies Contracts (Version 2.1), tenderers shall describe the guarantee provided by the manufacturer which is included in the price of the hardware. This manufacturer guarantee shall apply to all cases where EUIs decide to only purchase the proposed server configuration, without purchasing one of the additional Extended Guarantee service levels. The manufacturer guarantee shall apply to all product items: the server components and the associated equipment (extensions, options and upgrades). Please fill in the yellow fields.
B7: Manufacturer Guarantee | C7: Duration in years | D7: Coverage (days, hours) | E7: Location coverage | F7: Type of intervention (on-site, customer self-repair,…) | G7: Response Time | H7: Resolution Time | I7: Other

Sheet Extended Guarantees
B2: Pricing of the Extended Guarantee Services:
B4: The Extented Guarantee shall be quoted as a fixed percentage. For both the Yearly Extended Guarantee and 5 year Extended Guarantee package, the tenderer shall quote one percentage for each Extended Guarantee level (one for the “Standard Extended Guarantee” and one for the “Critical Extended Guarantee”). These 2 percentages will apply to all product items: the server components and the associated equipment (extensions, options and upgrades). Please fill in the yellow fields.
B11: Extended Guarantee level | C11: Coverage hours | D11: Call-back response time | E11: Incident resolution time | H11: Extended Guarantee level | I11: Coverage hours | J11: Call-back response time | K11: Incident resolution time
B12: Standard Extended Guarantee | C12: Normal Working Hours | D12: 30 minutes | E12: 10 hours | H12: Critical Extended Guarantee | I12: 24/7 | J12: 15 minutes | K12: 6 hours
B15: Yearly Standard Extended Guarantee Percentage: | E15: 0 | H15: Yearly Critical Extended Guarantee Percentage: | K15: 0
B18: Standard Extended Guarantee percentage for five (5) years package | E18: 0 | H18: Critical Extended Guarantee percentage for five (5) years package | K18: 0

Sheet Summary
A1: Server hardware, associated equipment and Extended Guarantee
A2: Server category | B2: Volume | C2: Volume acquisition | D2: Volume leasing | E2: Price of reference config (EUR per unit) | F2: Price for the installation of the reference configuration (EUR per unit) | G2: Extended Guarantee service level 1 (Standard) 1 year fee (EUR) | H2: Extended Guarantee service level 2 (Critical) 1 year fee (EUR) | I2: Extended Guarantee service level 1 (Standard) 5 Years Package fee (EUR) | J2: Extended Guarantee service level 2 (Critical) 5 Years Package fee (EUR)
A3: A | B3: B | C3: C | D3: D | E3: E | F3: F | G3: G | H3: H | I3: I | J3: J
A4: Standard 2 sockets Blade server | B4: 992 | C4: 966.6 | D4: 25.4 | E4: ='Standard 2 sockets Blade Server'!$H$55 -> 0 | F4: ='Standard 2 sockets Blade Server'!$H$60 -> 0 | G4: ='Standard 2 sockets Blade Server'!I55 -> 0 | H4: ='Standard 2 sockets Blade Server'!J55 -> 0 | I4: ='Standard 2 sockets Blade Server'!K55 -> 0 | J4: ='Standard 2 sockets Blade Server'!L55 -> 0
A5: Standard 2 sockets rackable server | B5: 1691 | C5: 1654.3 | D5: 36.7 | E5: ='Standard 2 sockets Rackable'!$H$40 -> 0 | F5: ='Standard 2 sockets Rackable'!$H$45 -> 0 | G5: ='Standard 2 sockets Rackable'!I40 -> 0 | H5: ='Standard 2 sockets Rackable'!J40 -> 0 | I5: ='Standard 2 sockets Rackable'!K40 -> 0 | J5: ='Standard 2 sockets Rackable'!L40 -> 0
A6: Advanced 2 sockets rackable server | B6: 2567 | C6: 2538.3 | D6: 28.7 | E6: ='Advanced 2 sockets Rackable'!$H$39 -> 0 | F6: ='Advanced 2 sockets Rackable'!$H$43 -> 0 | G6: ='Advanced 2 sockets Rackable'!I39 -> 0 | H6: ='Advanced 2 sockets Rackable'!J39 -> 0 | I6: ='Advanced 2 sockets Rackable'!K39 -> 0 | J6: ='Advanced 2 sockets Rackable'!L39 -> 0
A7: Standard 4 sockets rackable server | B7: 1014 | C7: 984.15 | D7: 29.85 | E7: ='Standard 4 sockets Rackable'!$H$39 -> 0 | F7: ='Standard 4 sockets Rackable'!$H$43 -> 0 | G7: ='Standard 4 sockets Rackable'!I39 -> 0 | H7: ='Standard 4 sockets Rackable'!J39 -> 0 | I7: ='Standard 4 sockets Rackable'!K39 -> 0 | J7: ='Standard 4 sockets Rackable'!L39 -> 0
A8: Advanced 4 sockets rackable server | B8: 725 | C8: 704 | D8: 21 | E8: ='Advanced 4 sockets Rackable'!$H$39 -> 0 | F8: ='Advanced 4 sockets Rackable'!$H$44 -> 0 | G8: ='Advanced 4 sockets Rackable'!I39 -> 0 | H8: ='Advanced 4 sockets Rackable'!J39 -> 0 | I8: ='Advanced 4 sockets Rackable'!K39 -> 0 | J8: ='Advanced 4 sockets Rackable'!L39 -> 0
A9: Totals | B9: =SUM(B4:B8) -> 6989 | C9: =SUM(C4:C8) -> 6847.35 | D9: =SUM(D4:D8) -> 141.65
A11: Server category | B11: Cost of acquisition | C11: Cost of Leasing | D11: Extended Guarantee service level 1 (Standard) (Volume) | E11: Extended Guarantee service level 2 (Critical) (Volume) | F11: Extended Guarantee service level 1 (Standard, 1 year fee) Price for 5 years (EUR) | G11: Extended Guarantee service level 2 (Critical, 1 year fee) Price for 5 years (EUR) | H11: Standard Extended Guarantee percentage for five (5) years package (EUR) | I11: Critical Extended Guarantee percentage for five (5) years package (EUR) | J11: Total cost of the 5 server's categories with Extended Guarantee (EUR) | K11: Cost of associated equipment | L11: Total cost (EUR)
B12: K=C*(E+F) | C12: L=D*(E+F)*Factor | D12: M | E12: N | F12: O=((M*G)*5)*0.3 | G12: P=((N*H)*5)*0.3 | H12: Q=(M*I)*0.7 | I12: R=(N*J)*0.7 | J12: S=K+L+O+P+Q+R | K12: T=S*0,3 | L12: U=S+T
A13: =A4 -> Standard 2 sockets Blade server | B13: =IF(ISNUMBER((E4+F4)*C4),(E4+F4)*C4,"") -> 0 | C13: =IF(ISNUMBER((E4+F4)*D4*Leasing!$F$40),(E4+F4)*D4*Leasing!$F$40,0) -> 0 | D13: 496 | E13: 496 | F13: =((D13*G4)*5)*0.3 -> 0 | G13: =((E13*H4)*5)*0.3 -> 0 | H13: =(D13*I4)*0.7 -> 0 | I13: =(E13*J4)*0.7 -> 0 | J13: =B13+C13+F13+G13+H13+I13 -> 0 | K13: =J13*0.3 -> 0 | L13: =J13+K13 -> 0
A14: =A5 -> Standard 2 sockets rackable server | B14: =IF(ISNUMBER((E5+F5)*C5),(E5+F5)*(C5*0.8),"") -> 0 | C14: =IF(ISNUMBER((E5+F5)*D5*Leasing!$F$40),(E5+F5)*D5*Leasing!$F$40,0) -> 0 | D14: 1188 | E14: 497 | F14: =((D14*G5)*5)*0.3 -> 0 | G14: =((E14*H5)*5)*0.3 -> 0 | H14: =(D14*I5)*0.7 -> 0 | I14: =(E14*J5)*0.7 -> 0 | J14: =B14+C14+F14+G14+H14+I14 -> 0 | K14: =J14*0.3 -> 0 | L14: =J14+K14 -> 0
A15: =A6 -> Advanced 2 sockets rackable server | B15: =IF(ISNUMBER((E6+F6)*C6),(E6+F6)*(C6*0.8),"") -> 0 | C15: =IF(ISNUMBER((E6+F6)*D6*Leasing!$F$40),(E6+F6)*D6*Leasing!$F$40,0) -> 0 | D15: 1913 | E15: 654 | F15: =((D15*G6)*5)*0.3 -> 0 | G15: =((E15*H6)*5)*0.3 -> 0 | H15: =(D15*I6)*0.7 -> 0 | I15: =(E15*J6)*0.7 -> 0 | J15: =B15+C15+F15+G15+H15+I15 -> 0 | K15: =J15*0.3 -> 0 | L15: =J15+K15 -> 0
A16: =A7 -> Standard 4 sockets rackable server | B16: =IF(ISNUMBER((E7+F7)*C7),(E7+F7)*(C7*0.8),"") -> 0 | C16: =IF(ISNUMBER((E7+F7)*D7*Leasing!$F$40),(E7+F7)*D7*Leasing!$F$40,0) -> 0 | D16: 613 | E16: 401 | F16: =((D16*G7)*5)*0.3 -> 0 | G16: =((E16*H7)*5)*0.3 -> 0 | H16: =(D16*I7)*0.7 -> 0 | I16: =(E16*J7)*0.7 -> 0 | J16: =B16+C16+F16+G16+H16+I16 -> 0 | K16: =J16*0.3 -> 0 | L16: =J16+K16 -> 0
A17: =A8 -> Advanced 4 sockets rackable server | B17: =IF(ISNUMBER((E8+F8)*C8),(E8+F8)*(C8*0.8),"") -> 0 | C17: =IF(ISNUMBER((E8+F8)*D8*Leasing!$F$40),(E8+F8)*D8*Leasing!$F$40,0) -> 0 | D17: 408 | E17: 317 | F17: =((D17*G8)*5)*0.3 -> 0 | G17: =((E17*H8)*5)*0.3 -> 0 | H17: =(D17*I8)*0.7 -> 0 | I17: =(E17*J8)*0.7 -> 0 | J17: =B17+C17+F17+G17+H17+I17 -> 0 | K17: =J17*0.3 -> 0 | L17: =J17+K17 -> 0
K18: Totals | L18: =SUM(L13:L17) -> 0
A21: Professional Services
E22: Volumes | F22: Unit of volume | G22: Price (EUR/day) | H22: Price (EUR/hour) during NWH | I22: Price (EUR/hour) during EWH | J22: Price per on-call service (EUR/week) | K22: Total Cost (EUR)
E23: A | G23: B | H23: C=B/8 | I23: D | J23: E | K23: F=A*B
A24: ='Professional services'!A7 -> Project Manager | F24: man-days
A25: Days worked during normal working hours | E25: =ROUNDUP(($B$9*0.05)*0.3,0) -> 105 | F25: man-days | G25: ='Professional services'!B7 -> 0 | K25: =IF(ISNUMBER(E25*G25),E25*G25,0) -> 0
A26: ='Professional services'!A8 -> IT Engineer | F26: man-days
A27: Days worked during normal working hours | E27: =ROUNDUP((($B$9*0.05)*0.5)*0.8,0) -> 140 | F27: man-days | G27: ='Professional services'!B8 -> 0 | H27: =G27/8 -> 0 | K27: =IF(ISNUMBER(E27*G27),E27*G27,0) -> 0
A28: Hours worked during extended working hours | E28: =ROUNDUP((($B$9*0.05)*0.5)*0.2,0) -> 35 | F28: hours | I28: ='Professional services'!D8 -> 0 | K28: =IF(ISNUMBER(E28*I28),E28*I28,0) -> 0
A29: Weeks with 24-hours on-call service (12 weeks for each person-year) | E29: =ROUNDUP((E27/220)*12,0) -> 8 | F29: weeks | J29: ='Professional services'!E8 -> 0 | K29: =IF(ISNUMBER(E29*J29*7),E29*J29*7,0) -> 0
A30: ='Professional services'!A9 -> System Architect | F30: man-days
A31: Days worked during normal working hours | E31: =ROUNDUP((($B$9*0.05)*0.2)*0.9,0) -> 63 | F31: man-days | G31: ='Professional services'!B9 -> 0 | H31: =G31/8 -> 0 | K31: =IF(ISNUMBER(E31*G31),E31*G31,0) -> 0
A32: Hours worked during extended working hours | E32: =ROUNDUP((($B$9*0.05)*0.2)*0.1,0) -> 7 | F32: hours | I32: ='Professional services'!D9 -> 0 | K32: =IF(ISNUMBER(E32*I32),E32*I32,0) -> 0
A33: Weeks with 24-hours on-call service (12 weeks for each person-year) | E33: =ROUNDUP((E31/220)*12,0) -> 4 | F33: weeks | J33: ='Professional services'!E9 -> 0 | K33: =IF(ISNUMBER(E33*J33*7),E33*J33*7,0) -> 0
J34: Totals | K34: =SUM(K25+K27+K28+K29+K25+K31+K32+K33) -> 0
A37: Moves services
A38: Description | B38: Volumes | G38: Pricing for the different moves in EUR
A39: Prices for the relocation of servers | B39: =A4 -> Standard 2 sockets Blade server | C39: =A5 -> Standard 2 sockets rackable server | D39: =A6 -> Advanced 2 sockets rackable server | E39: =A7 -> Standard 4 sockets rackable server | F39: =A8 -> Advanced 4 sockets rackable server | G39: =B39 -> Standard 2 sockets Blade server | H39: =C39 -> Standard 2 sockets rackable server | I39: =D39 -> Advanced 2 sockets rackable server | J39: =E39 -> Standard 4 sockets rackable server | K39: =F39 -> Advanced 4 sockets rackable server
A40: Move of a server within the same building during normal working hours | B40: =ROUNDUP(($B$4*0.15)*0.1,0) -> 15 | C40: =ROUNDUP(($B$5*0.15)*0.1,0) -> 26 | D40: =ROUNDUP(($B$6*0.15)*0.1,0) -> 39 | E40: =ROUNDUP(($B$7*0.15)*0.1,0) -> 16 | F40: =ROUNDUP(($B$8*0.15)*0.1,0) -> 11 | G40: =IF(ISNUMBER(B40*'Moves and EWH'!B5),B40*'Moves and EWH'!B5,0) -> 0 | H40: =IF(ISNUMBER(C40*'Moves and EWH'!C5),C40*'Moves and EWH'!C5,0) -> 0 | I40: =IF(ISNUMBER(D40*'Moves and EWH'!D5),D40*'Moves and EWH'!D5,0) -> 0 | J40: =IF(ISNUMBER(E40*'Moves and EWH'!E5),E40*'Moves and EWH'!E5,0) -> 0 | K40: =IF(ISNUMBER(F40*'Moves and EWH'!F5),F40*'Moves and EWH'!F5,0) -> 0
A41: Move of a server within the same building during the extended working hours | B41: =ROUNDUP(($B$4*0.15)*0.1,0) -> 15 | C41: =ROUNDUP(($B$5*0.15)*0.1,0) -> 26 | D41: =ROUNDUP(($B$6*0.15)*0.1,0) -> 39 | E41: =ROUNDUP(($B$7*0.15)*0.1,0) -> 16 | F41: =ROUNDUP(($B$8*0.15)*0.1,0) -> 11 | G41: =IF(ISNUMBER(B41*'Moves and EWH'!B6),B41*'Moves and EWH'!B6,0) -> 0 | H41: =IF(ISNUMBER(C41*'Moves and EWH'!C6),C41*'Moves and EWH'!C6,0) -> 0 | I41: =IF(ISNUMBER(D41*'Moves and EWH'!D6),D41*'Moves and EWH'!D6,0) -> 0 | J41: =IF(ISNUMBER(E41*'Moves and EWH'!E6),E41*'Moves and EWH'!E6,0) -> 0 | K41: =IF(ISNUMBER(F41*'Moves and EWH'!F6),F41*'Moves and EWH'!F6,0) -> 0
A42: Move of a server to another building within the same city during normal working hours | B42: =ROUNDUP(($B$4*0.15)*0.3,0) -> 45 | C42: =ROUNDUP(($B$5*0.15)*0.3,0) -> 77 | D42: =ROUNDUP(($B$6*0.15)*0.3,0) -> 116 | E42: =ROUNDUP(($B$7*0.15)*0.3,0) -> 46 | F42: =ROUNDUP(($B$8*0.15)*0.3,0) -> 33 | G42: =IF(ISNUMBER(B42*'Moves and EWH'!B7),B42*'Moves and EWH'!B7,0) -> 0 | H42: =IF(ISNUMBER(C42*'Moves and EWH'!C7),C42*'Moves and EWH'!C7,0) -> 0 | I42: =IF(ISNUMBER(D42*'Moves and EWH'!D7),D42*'Moves and EWH'!D7,0) -> 0 | J42: =IF(ISNUMBER(E42*'Moves and EWH'!E7),E42*'Moves and EWH'!E7,0) -> 0 | K42: =IF(ISNUMBER(F42*'Moves and EWH'!F7),F42*'Moves and EWH'!F7,0) -> 0
A43: Move of a server to another building within the same city during extended working hours | B43: =ROUNDUP(($B$4*0.15)*0.1,0) -> 15 | C43: =ROUNDUP(($B$5*0.15)*0.3,0) -> 77 | D43: =ROUNDUP(($B$6*0.15)*0.3,0) -> 116 | E43: =ROUNDUP(($B$7*0.15)*0.3,0) -> 46 | F43: =ROUNDUP(($B$8*0.15)*0.3,0) -> 33 | G43: =IF(ISNUMBER(B43*'Moves and EWH'!B8),B43*'Moves and EWH'!B8,0) -> 0 | H43: =IF(ISNUMBER(C43*'Moves and EWH'!C8),C43*'Moves and EWH'!C8,0) -> 0 | I43: =IF(ISNUMBER(D43*'Moves and EWH'!D8),D43*'Moves and EWH'!D8,0) -> 0 | J43: =IF(ISNUMBER(E43*'Moves and EWH'!E8),E43*'Moves and EWH'!E8,0) -> 0 | K43: =IF(ISNUMBER(F43*'Moves and EWH'!F8),F43*'Moves and EWH'!F8,0) -> 0
A44: Move of a server to another building between 2 cities during normal working hours | B44: =ROUNDUP(($B$4*0.15)*0.3,0) -> 45 | C44: =ROUNDUP(($B$5*0.15)*0.1,0) -> 26 | D44: =ROUNDUP(($B$6*0.15)*0.1,0) -> 39 | E44: =ROUNDUP(($B$7*0.15)*0.1,0) -> 16 | F44: =ROUNDUP(($B$8*0.15)*0.1,0) -> 11 | G44: =IF(ISNUMBER(B44*'Moves and EWH'!B9),B44*'Moves and EWH'!B9,0) -> 0 | H44: =IF(ISNUMBER(C44*'Moves and EWH'!C9),C44*'Moves and EWH'!C9,0) -> 0 | I44: =IF(ISNUMBER(D44*'Moves and EWH'!D9),D44*'Moves and EWH'!D9,0) -> 0 | J44: =IF(ISNUMBER(E44*'Moves and EWH'!E9),E44*'Moves and EWH'!E9,0) -> 0 | K44: =IF(ISNUMBER(F44*'Moves and EWH'!F9),F44*'Moves and EWH'!F9,0) -> 0
A45: Move of a server to another building between 2 cities during extended working hours | B45: =ROUNDUP(($B$4*0.15)*0.1,0) -> 15 | C45: =ROUNDUP(($B$5*0.15)*0.1,0) -> 26 | D45: =ROUNDUP(($B$6*0.15)*0.1,0) -> 39 | E45: =ROUNDUP(($B$7*0.15)*0.1,0) -> 16 | F45: =ROUNDUP(($B$8*0.15)*0.1,0) -> 11 | G45: =IF(ISNUMBER(B45*'Moves and EWH'!B10),B45*'Moves and EWH'!B10,0) -> 0 | H45: =IF(ISNUMBER(C45*'Moves and EWH'!C10),C45*'Moves and EWH'!C10,0) -> 0 | I45: =IF(ISNUMBER(D45*'Moves and EWH'!D10),D45*'Moves and EWH'!D10,0) -> 0 | J45: =IF(ISNUMBER(E45*'Moves and EWH'!E10),E45*'Moves and EWH'!E10,0) -> 0 | K45: =IF(ISNUMBER(F45*'Moves and EWH'!F10),F45*'Moves and EWH'!F10,0) -> 0
...

Sheet Standard 2 sockets Blade Server
B2: Please fill in the yellow fields. If necessary, delete or add position lines. If necessary, replace the 'Any other component' line with a component description. Please make sure, that the 'Price for the proposed configuration' includes all related items.
A6: Proposed Configuration - Standard 2 sockets Blade server
A8: Position | B8: Product code/ reference | C8: Description | D8: Net unit price (EUR) | E8: Extended Guarantee (Standard) yearly fee (%) | F8: Extended Guarantee (Critical) yearly fee (%) | G8: Quantity | H8: Total Item price (EUR) | I8: Extended Guarantee service (Standard) yearly fee (EUR) | J8: Extended Guarantee service (Critical) yearly fee (EUR) | K8: Remarks
A9: A | B9: B | C9: C | D9: D | E9: E | F9: F | G9: G | H9: H | I9: I | J9: J
C10: Example - please complete the list! | H10: H=ROUND(D*G) | I10: I=ROUND(H*E) | J10: J=ROUND(H*F)
A11: 1 | C11: Enclosure (Chassis) | D11: Fill | E11: ='Extended Guarantees'!$E$15 -> 0 | F11: ='Extended Guarantees'!$K$15 -> 0 | G11: Fill | H11: =IF(ISNUMBER(ROUND($D11*$G11,2)),ROUND($D11*$G11,2),"") | I11: =IF(ISNUMBER(ROUND($H11*E11,2)),ROUND($H11*E11,2),"") | J11: =IF(ISNUMBER(ROUND($H11*F11,2)),ROUND($H11*F11,2),"")
A12: 2 | C12: Power-supply | D12: Fill | E12: ='Extended Guarantees'!$E$15 -> 0 | F12: ='Extended Guarantees'!$K$15 -> 0 | G12: Fill | H12: =IF(ISNUMBER(ROUND($D12*$G12,2)),ROUND($D12*$G12,2),"") | I12: =IF(ISNUMBER(ROUND($H12*E12,2)),ROUND($H12*E12,2),"") | J12: =IF(ISNUMBER(ROUND($H12*F12,2)),ROUND($H12*F12,2),"")
A13: 3 | C13: Cooling fans | D13: Fill | E13: ='Extended Guarantees'!$E$15 -> 0 | F13: ='Extended Guarantees'!$K$15 -> 0 | G13: Fill | H13: =IF(ISNUMBER(ROUND($D13*$G13,2)),ROUND($D13*$G13,2),"") | I13: =IF(ISNUMBER(ROUND($H13*E13,2)),ROUND($H13*E13,2),"") | J13: =IF(ISNUMBER(ROUND($H13*F13,2)),ROUND($H13*F13,2),"")
A14: 4 | C14: Monitoring software | D14: Fill | E14: ='Extended Guarantees'!$E$15 -> 0 | F14: ='Extended Guarantees'!$K$15 -> 0 | G14: Fill | H14: =IF(ISNUMBER(ROUND($D14*$G14,2)),ROUND($D14*$G14,2),"") | I14: =IF(ISNUMBER(ROUND($H14*E14,2)),ROUND($H14*E14,2),"") | J14: =IF(ISNUMBER(ROUND($H14*F14,2)),ROUND($H14*F14,2),"")
A15: 5 | C15: Remote management card | D15: Fill | E15: ='Extended Guarantees'!$E$15 -> 0 | F15: ='Extended Guarantees'!$K$15 -> 0 | G15: Fill | H15: =IF(ISNUMBER(ROUND($D15*$G15,2)),ROUND($D15*$G15,2),"") | I15: =IF(ISNUMBER(ROUND($H15*E15,2)),ROUND($H15*E15,2),"") | J15: =IF(ISNUMBER(ROUND($H15*F15,2)),ROUND($H15*F15,2),"")
A16: 6 | C16: Any other component | D16: Fill | E16: ='Extended Guarantees'!$E$15 -> 0 | F16: ='Extended Guarantees'!$K$15 -> 0 | G16: Fill | H16: =IF(ISNUMBER(ROUND($D16*$G16,2)),ROUND($D16*$G16,2),"") | I16: =IF(ISNUMBER(ROUND($H16*E16,2)),ROUND($H16*E16,2),"") | J16: =IF(ISNUMBER(ROUND($H16*F16,2)),ROUND($H16*F16,2),"")
A17: 7 | D17: Fill | E17: ='Extended Guarantees'!$E$15 -> 0 | F17: ='Extended Guarantees'!$K$15 -> 0 | G17: Fill | H17: =IF(ISNUMBER(ROUND($D17*$G17,2)),ROUND($D17*$G17,2),"") | I17: =IF(ISNUMBER(ROUND($H17*E17,2)),ROUND($H17*E17,2),"") | J17: =IF(ISNUMBER(ROUND($H17*F17,2)),ROUND($H17*F17,2),"")
A18: 8 | D18: Fill | E18: ='Extended Guarantees'!$E$15 -> 0 | F18: ='Extended Guarantees'!$K$15 -> 0 | G18: Fill | H18: =IF(ISNUMBER(ROUND($D18*$G18,2)),ROUND($D18*$G18,2),"") | I18: =IF(ISNUMBER(ROUND($H18*E18,2)),ROUND($H18*E18,2),"") | J18: =IF(ISNUMBER(ROUND($H18*F18,2)),ROUND($H18*F18,2),"")
A19: 9 | D19: Fill | E19: ='Extended Guarantees'!$E$15 -> 0 | F19: ='Extended Guarantees'!$K$15 -> 0 | G19: Fill | H19: =IF(ISNUMBER(ROUND($D19*$G19,2)),ROUND($D19*$G19,2),"") | I19: =IF(ISNUMBER(ROUND($H19*E19,2)),ROUND($H19*E19,2),"") | J19: =IF(ISNUMBER(ROUND($H19*F19,2)),ROUND($H19*F19,2),"")
A20: 10 | D20: Fill | E20: ='Extended Guarantees'!$E$15 -> 0 | F20: ='Extended Guarantees'!$K$15 -> 0 | G20: Fill | H20: =IF(ISNUMBER(ROUND($D20*$G20,2)),ROUND($D20*$G20,2),"") | I20: =IF(ISNUMBER(ROUND($H20*E20,2)),ROUND($H20*E20,2),"") | J20: =IF(ISNUMBER(ROUND($H20*F20,2)),ROUND($H20*F20,2),"")
A21: 11 | D21: Fill | E21: ='Extended Guarantees'!$E$15 -> 0 | F21: ='Extended Guarantees'!$K$15 -> 0 | G21: Fill | H21: =IF(ISNUMBER(ROUND($D21*$G21,2)),ROUND($D21*$G21,2),"") | I21: =IF(ISNUMBER(ROUND($H21*E21,2)),ROUND($H21*E21,2),"") | J21: =IF(ISNUMBER(ROUND($H21*F21,2)),ROUND($H21*F21,2),"")
A22: 12 | D22: Fill | E22: ='Extended Guarantees'!$E$15 -> 0 | F22: ='Extended Guarantees'!$K$15 -> 0 | G22: Fill | H22: =IF(ISNUMBER(ROUND($D22*$G22,2)),ROUND($D22*$G22,2),"") | I22: =IF(ISNUMBER(ROUND($H22*E22,2)),ROUND($H22*E22,2),"") | J22: =IF(ISNUMBER(ROUND($H22*F22,2)),ROUND($H22*F22,2),"")
A23: 13 | D23: Fill | E23: ='Extended Guarantees'!$E$15 -> 0 | F23: ='Extended Guarantees'!$K$15 -> 0 | G23: Fill | H23: =IF(ISNUMBER(ROUND($D23*$G23,2)),ROUND($D23*$G23,2),"") | I23: =IF(ISNUMBER(ROUND($H23*E23,2)),ROUND($H23*E23,2),"") | J23: =IF(ISNUMBER(ROUND($H23*F23,2)),ROUND($H23*F23,2),"")
A24: 14 | D24: Fill | E24: ='Extended Guarantees'!$E$15 -> 0 | F24: ='Extended Guarantees'!$K$15 -> 0 | G24: Fill | H24: =IF(ISNUMBER(ROUND($D24*$G24,2)),ROUND($D24*$G24,2),"") | I24: =IF(ISNUMBER(ROUND($H24*E24,2)),ROUND($H24*E24,2),"") | J24: =IF(ISNUMBER(ROUND($H24*F24,2)),ROUND($H24*F24,2),"")
A25: 15 | D25: Fill | E25: ='Extended Guarantees'!$E$15 -> 0 | F25: ='Extended Guarantees'!$K$15 -> 0 | G25: Fill | H25: =IF(ISNUMBER(ROUND($D25*$G25,2)),ROUND($D25*$G25,2),"") | I25: =IF(ISNUMBER(ROUND($H25*E25,2)),ROUND($H25*E25,2),"") | J25: =IF(ISNUMBER(ROUND($H25*F25,2)),ROUND($H25*F25,2),"")
A26: ENCLOSURE (CHASSIS) Price for the Financial Evaluation | H26: =SUM(H11:H25)/D51 -> 0 | I26: =H26*'Extended Guarantees'!E15 -> 0 | J26: =H26*'Extended Guarantees'!K15 -> 0 | K26: Remarks
A27: ENCLOSURE (CHASSIS) Price | H27: =SUM(H11:H25) -> 0 | I27: =SUM(I11:I25) -> 0 | J27: =SUM(J11:J25) -> 0
A28: 16 | C28: Blade | D28: Fill | E28: ='Extended Guarantees'!E$15 -> 0 | F28: ='Extended Guarantees'!$K$15 -> 0 | G28: Fill | H28: =IF(ISNUMBER(ROUND($D28*$G28,2)),ROUND($D28*$G28,2),"") | I28: =IF(ISNUMBER(ROUND($H28*E28,2)),ROUND($H28*E28,2),"") | J28: =IF(ISNUMBER(ROUND($H28*F28,2)),ROUND($H28*F28,2),"")
A29: 17 | C29: CPU | D29: Fill | E29: ='Extended Guarantees'!E$15 -> 0 | F29: ='Extended Guarantees'!$K$15 -> 0 | G29: Fill | H29: =IF(ISNUMBER(ROUND($D29*$G29,2)),ROUND($D29*$G29,2),"") | I29: =IF(ISNUMBER(ROUND($H29*E29,2)),ROUND($H29*E29,2),"") | J29: =IF(ISNUMBER(ROUND($H29*F29,2)),ROUND($H29*F29,2),"")
A30: 18 | C30: Memory | D30: Fill | E30: ='Extended Guarantees'!E$15 -> 0 | F30: ='Extended Guarantees'!$K$15 -> 0 | G30: Fill | H30: =IF(ISNUMBER(ROUND($D30*$G30,2)),ROUND($D30*$G30,2),"") | I30: =IF(ISNUMBER(ROUND($H30*E30,2)),ROUND($H30*E30,2),"") | J30: =IF(ISNUMBER(ROUND($H30*F30,2)),ROUND($H30*F30,2),"")
A31: 19 | C31: Internal disks | D31: Fill | E31: ='Extended Guarantees'!E$15 -> 0 | F31: ='Extended Guarantees'!$K$15 -> 0 | G31: Fill | H31: =IF(ISNUMBER(ROUND($D31*$G31,2)),ROUND($D31*$G31,2),"") | I31: =IF(ISNUMBER(ROUND($H31*E31,2)),ROUND($H31*E31,2),"") | J31: =IF(ISNUMBER(ROUND($H31*F31,2)),ROUND($H31*F31,2),"")
A32: 20 | C32: Monitoring software | D32: Fill | E32: ='Extended Guarantees'!E$15 -> 0 | F32: ='Extended Guarantees'!$K$15 -> 0 | G32: Fill | H32: =IF(ISNUMBER(ROUND($D32*$G32,2)),ROUND($D32*$G32,2),"") | I32: =IF(ISNUMBER(ROUND($H32*E32,2)),ROUND($H32*E32,2),"") | J32: =IF(ISNUMBER(ROUND($H32*F32,2)),ROUND($H32*F32,2),"")
A33: 21 | C33: Remote management card | D33: Fill | E33: ='Extended Guarantees'!E$15 -> 0 | F33: ='Extended Guarantees'!$K$15 -> 0 | G33: Fill | H33: =IF(ISNUMBER(ROUND($D33*$G33,2)),ROUND($D33*$G33,2),"") | I33: =IF(ISNUMBER(ROUND($H33*E33,2)),ROUND($H33*E33,2),"") | J33: =IF(ISNUMBER(ROUND($H33*F33,2)),ROUND($H33*F33,2),"")
A34: 22 | C34: NIC | D34: Fill | E34: ='Extended Guarantees'!E$15 -> 0 | F34: ='Extended Guarantees'!$K$15 -> 0 | G34: Fill | H34: =IF(ISNUMBER(ROUND($D34*$G34,2)),ROUND($D34*$G34,2),"") | I34: =IF(ISNUMBER(ROUND($H34*E34,2)),ROUND($H34*E34,2),"") | J34: =IF(ISNUMBER(ROUND($H34*F34,2)),ROUND($H34*F34,2),"")
A35: 23 | C35: Fibre Channel HBA | D35: Fill | E35: ='Extended Guarantees'!E$15 -> 0 | F35: ='Extended Guarantees'!$K$15 -> 0 | G35: Fill | H35: =IF(ISNUMBER(ROUND($D35*$G35,2)),ROUND($D35*$G35,2),"") | I35: =IF(ISNUMBER(ROUND($H35*E35,2)),ROUND($H35*E35,2),"") | J35: =IF(ISNUMBER(ROUND($H35*F35,2)),ROUND($H35*F35,2),"")
A36: 24 | C36: Management tools | D36: Fill | E36: ='Extended Guarantees'!E$15 -> 0 | F36: ='Extended Guarantees'!$K$15 -> 0 | G36: Fill | H36: =IF(ISNUMBER(ROUND($D36*$G36,2)),ROUND($D36*$G36,2),"") | I36: =IF(ISNUMBER(ROUND($H36*E36,2)),ROUND($H36*E36,2),"") | J36: =IF(ISNUMBER(ROUND($H36*F36,2)),ROUND($H36*F36,2),"")
A37: 25 | C37: Any other component | D37: Fill | E37: ='Extended Guarantees'!E$15 -> 0 | F37: ='Extended Guarantees'!$K$15 -> 0 | G37: Fill | H37: =IF(ISNUMBER(ROUND($D37*$G37,2)),ROUND($D37*$G37,2),"") | I37: =IF(ISNUMBER(ROUND($H37*E37,2)),ROUND($H37*E37,2),"") | J37: =IF(ISNUMBER(ROUND($H37*F37,2)),ROUND($H37*F37,2),"")
A38: 26 | D38: Fill | E38: ='Extended Guarantees'!E$15 -> 0 | F38: ='Extended Guarantees'!$K$15 -> 0 | G38: Fill | H38: =IF(ISNUMBER(ROUND($D38*$G38,2)),ROUND($D38*$G38,2),"") | I38: =IF(ISNUMBER(ROUND($H38*E38,2)),ROUND($H38*E38,2),"") | J38: =IF(ISNUMBER(ROUND($H38*F38,2)),ROUND($H38*F38,2),"")
A39: 27 | D39: Fill | E39: ='Extended Guarantees'!E$15 -> 0 | F39: ='Extended Guarantees'!$K$15 -> 0 | G39: Fill | H39: =IF(ISNUMBER(ROUND($D39*$G39,2)),ROUND($D39*$G39,2),"") | I39: =IF(ISNUMBER(ROUND($H39*E39,2)),ROUND($H39*E39,2),"") | J39: =IF(ISNUMBER(ROUND($H39*F39,2)),ROUND($H39*F39,2),"")
A40: 28 | D40: Fill | E40: ='Extended Guarantees'!E$15 -> 0 | F40: ='Extended Guarantees'!$K$15 -> 0 | G40: Fill | H40: =IF(ISNUMBER(ROUND($D40*$G40,2)),ROUND($D40*$G40,2),"") | I40: =IF(ISNUMBER(ROUND($H40*E40,2)),ROUND($H40*E40,2),"") | J40: =IF(ISNUMBER(ROUND($H40*F40,2)),ROUND($H40*F40,2),"")
A41: 29 | D41: Fill | E41: ='Extended Guarantees'!E$15 -> 0 | F41: ='Extended Guarantees'!$K$15 -> 0 | G41: Fill | H41: =IF(ISNUMBER(ROUND($D41*$G41,2)),ROUND($D41*$G41,2),"") | I41: =IF(ISNUMBER(ROUND($H41*E41,2)),ROUND($H41*E41,2),"") | J41: =IF(ISNUMBER(ROUND($H41*F41,2)),ROUND($H41*F41,2),"")
A42: 30 | D42: Fill | E42: ='Extended Guarantees'!E$15 -> 0 | F42: ='Extended Guarantees'!$K$15 -> 0 | G42: Fill | H42: =IF(ISNUMBER(ROUND($D42*$G42,2)),ROUND($D42*$G42,2),"") | I42: =IF(ISNUMBER(ROUND($H42*E42,2)),ROUND($H42*E42,2),"") | J42: =IF(ISNUMBER(ROUND($H42*F42,2)),ROUND($H42*F42,2),"")
B43: BLADE Price | H43: =SUM(H28:H42) -> 0 | I43: =SUM(I28:I42) -> 0 | J43: =SUM(J28:J42) -> 0
C50: For your information, the current EU enclosure capacity for the proposed Standard Blade server is: | D50: 14
C51: Maximum number of the proposed Standard Blade server that can be hosted in the proposed enclosure/chassis? | D51: 1
...

Sheet Standard 2 sockets Rackable
B2: Please fill in the yellow fields. If necessary, delete or add position lines. If necessary, replace the 'Any other component' line with a component description. Please make sure, that the 'Price for the proposed configuration' includes all related items.
A6: Proposed Configuration - Standard 2 sockets rackable server
A8: Position | B8: Product code/ reference | C8: Description | D8: Net unit price (EUR) | E8: Extended Guarantee service (Standard) yearly fee (%) | F8: Extended Guarantee service (Critical) yearly fee (%) | G8: Quantity | H8: Total Item price (EUR) | I8: Extended Guarantee service (Standard) yearly fee (EUR) | J8: Extended Guarantee service (Critical) yearly fee (EUR) | K8: Remarks
A9: A | B9: B | C9: C | D9: D | E9: E | F9: F | G9: G | H9: H | I9: I | J9: J
C10: Example - please complete | H10: H=ROUND(D*G) | I10: I=ROUND(H*E) | J10: J=ROUND(H*F)
A11: 1 | C11: Base configuration (brief description) | D11: Fill | E11: ='Extended Guarantees'!$E$15 -> 0 | F11: ='Extended Guarantees'!$K$15 -> 0 | G11: Fill | H11: =IF(ISNUMBER(ROUND($D11*$G11,2)),ROUND($D11*$G11,2),"") | I11: =IF(ISNUMBER(ROUND($H11*$E11,2)),ROUND($H11*$E11,2),"") | J11: =IF(ISNUMBER(ROUND($H11*$F11,2)),ROUND($H11*$F11,2),"")
A12: 2 | C12: CPU | D12: Fill | E12: ='Extended Guarantees'!$E$15 -> 0 | F12: ='Extended Guarantees'!$K$15 -> 0 | G12: Fill | H12: =IF(ISNUMBER(ROUND($D12*$G12,2)),ROUND($D12*$G12,2),"") | I12: =IF(ISNUMBER(ROUND($H12*E12,2)),ROUND($H12*E12,2),"") | J12: =IF(ISNUMBER(ROUND($H12*F12,2)),ROUND($H12*F12,2),"")
A13: 3 | C13: Memory | D13: Fill | E13: ='Extended Guarantees'!$E$15 -> 0 | F13: ='Extended Guarantees'!$K$15 -> 0 | G13: Fill | H13: =IF(ISNUMBER(ROUND($D13*$G13,2)),ROUND($D13*$G13,2),"") | I13: =IF(ISNUMBER(ROUND($H13*E13,2)),ROUND($H13*E13,2),"") | J13: =IF(ISNUMBER(ROUND($H13*F13,2)),ROUND($H13*F13,2),"")
A14: 4 | C14: Internal disks | D14: Fill | E14: ='Extended Guarantees'!$E$15 -> 0 | F14: ='Extended Guarantees'!$K$15 -> 0 | G14: Fill | H14: =IF(ISNUMBER(ROUND($D14*$G14,2)),ROUND($D14*$G14,2),"") | I14: =IF(ISNUMBER(ROUND($H14*E14,2)),ROUND($H14*E14,2),"") | J14: =IF(ISNUMBER(ROUND($H14*F14,2)),ROUND($H14*F14,2),"")
A15: 5 | C15: Fibre Channel HBA | D15: Fill | E15: ='Extended Guarantees'!$E$15 -> 0 | F15: ='Extended Guarantees'!$K$15 -> 0 | G15: Fill | H15: =IF(ISNUMBER(ROUND($D15*$G15,2)),ROUND($D15*$G15,2),"") | I15: =IF(ISNUMBER(ROUND($H15*E15,2)),ROUND($H15*E15,2),"") | J15: =IF(ISNUMBER(ROUND($H15*F15,2)),ROUND($H15*F15,2),"")
A16: 6 | C16: Cluster software (only B, C, D and E) | D16: Fill | E16: ='Extended Guarantees'!$E$15 -> 0 | F16: ='Extended Guarantees'!$K$15 -> 0 | G16: Fill | H16: =IF(ISNUMBER(ROUND($D16*$G16,2)),ROUND($D16*$G16,2),"") | I16: =IF(ISNUMBER(ROUND($H16*E16,2)),ROUND($H16*E16,2),"") | J16: =IF(ISNUMBER(ROUND($H16*F16,2)),ROUND($H16*F16,2),"")
A17: 7 | C17: Monitoring software | D17: Fill | E17: ='Extended Guarantees'!$E$15 -> 0 | F17: ='Extended Guarantees'!$K$15 -> 0 | G17: Fill | H17: =IF(ISNUMBER(ROUND($D17*$G17,2)),ROUND($D17*$G17,2),"") | I17: =IF(ISNUMBER(ROUND($H17*E17,2)),ROUND($H17*E17,2),"") | J17: =IF(ISNUMBER(ROUND($H17*F17,2)),ROUND($H17*F17,2),"")
A18: 8 | C18: Remote management card | D18: Fill | E18: ='Extended Guarantees'!$E$15 -> 0 | F18: ='Extended Guarantees'!$K$15 -> 0 | G18: Fill | H18: =IF(ISNUMBER(ROUND($D18*$G18,2)),ROUND($D18*$G18,2),"") | I18: =IF(ISNUMBER(ROUND($H18*E18,2)),ROUND($H18*E18,2),"") | J18: =IF(ISNUMBER(ROUND($H18*F18,2)),ROUND($H18*F18,2),"")
A19: 9 | C19: NIC | D19: Fill | E19: ='Extended Guarantees'!$E$15 -> 0 | F19: ='Extended Guarantees'!$K$15 -> 0 | G19: Fill | H19: =IF(ISNUMBER(ROUND($D19*$G19,2)),ROUND($D19*$G19,2),"") | I19: =IF(ISNUMBER(ROUND($H19*E19,2)),ROUND($H19*E19,2),"") | J19: =IF(ISNUMBER(ROUND($H19*F19,2)),ROUND($H19*F19,2),"")
A20: 10 | C20: Any other component | D20: Fill | E20: ='Extended Guarantees'!$E$15 -> 0 | F20: ='Extended Guarantees'!$K$15 -> 0 | G20: Fill | H20: =IF(ISNUMBER(ROUND($D20*$G20,2)),ROUND($D20*$G20,2),"") | I20: =IF(ISNUMBER(ROUND($H20*E20,2)),ROUND($H20*E20,2),"") | J20: =IF(ISNUMBER(ROUND($H20*F20,2)),ROUND($H20*F20,2),"")
A21: 11 | C21: Management tools | D21: Fill | E21: ='Extended Guarantees'!$E$15 -> 0 | F21: ='Extended Guarantees'!$K$15 -> 0 | G21: Fill | H21: =IF(ISNUMBER(ROUND($D21*$G21,2)),ROUND($D21*$G21,2),"") | I21: =IF(ISNUMBER(ROUND($H21*E21,2)),ROUND($H21*E21,2),"") | J21: =IF(ISNUMBER(ROUND($H21*F21,2)),ROUND($H21*F21,2),"")
A22: 12 | D22: Fill | E22: ='Extended Guarantees'!$E$15 -> 0 | F22: ='Extended Guarantees'!$K$15 -> 0 | G22: Fill | H22: =IF(ISNUMBER(ROUND($D22*$G22,2)),ROUND($D22*$G22,2),"") | I22: =IF(ISNUMBER(ROUND($H22*E22,2)),ROUND($H22*E22,2),"") | J22: =IF(ISNUMBER(ROUND($H22*F22,2)),ROUND($H22*F22,2),"")
A23: 13 | D23: Fill | E23: ='Extended Guarantees'!$E$15 -> 0 | F23: ='Extended Guarantees'!$K$15 -> 0 | G23: Fill | H23: =IF(ISNUMBER(ROUND($D23*$G23,2)),ROUND($D23*$G23,2),"") | I23: =IF(ISNUMBER(ROUND($H23*E23,2)),ROUND($H23*E23,2),"") | J23: =IF(ISNUMBER(ROUND($H23*F23,2)),ROUND($H23*F23,2),"")
A24: 14 | D24: Fill | E24: ='Extended Guarantees'!$E$15 -> 0 | F24: ='Extended Guarantees'!$K$15 -> 0 | G24: Fill | H24: =IF(ISNUMBER(ROUND($D24*$G24,2)),ROUND($D24*$G24,2),"") | I24: =IF(ISNUMBER(ROUND($H24*E24,2)),ROUND($H24*E24,2),"") | J24: =IF(ISNUMBER(ROUND($H24*F24,2)),ROUND($H24*F24,2),"")
A25: 15 | D25: Fill | E25: ='Extended Guarantees'!$E$15 -> 0 | F25: ='Extended Guarantees'!$K$15 -> 0 | G25: Fill | H25: =IF(ISNUMBER(ROUND($D25*$G25,2)),ROUND($D25*$G25,2),"") | I25: =IF(ISNUMBER(ROUND($H25*E25,2)),ROUND($H25*E25,2),"") | J25: =IF(ISNUMBER(ROUND($H25*F25,2)),ROUND($H25*F25,2),"")
A26: 16 | D26: Fill | E26: ='Extended Guarantees'!$E$15 -> 0 | F26: ='Extended Guarantees'!$K$15 -> 0 | G26: Fill | H26: =IF(ISNUMBER(ROUND($D26*$G26,2)),ROUND($D26*$G26,2),"") | I26: =IF(ISNUMBER(ROUND($H26*E26,2)),ROUND($H26*E26,2),"") | J26: =IF(ISNUMBER(ROUND($H26*F26,2)),ROUND($H26*F26,2),"")
A27: 17 | D27: Fill | E27: ='Extended Guarantees'!$E$15 -> 0 | F27: ='Extended Guarantees'!$K$15 -> 0 | G27: Fill | H27: =IF(ISNUMBER(ROUND($D27*$G27,2)),ROUND($D27*$G27,2),"") | I27: =IF(ISNUMBER(ROUND($H27*E27,2)),ROUND($H27*E27,2),"") | J27: =IF(ISNUMBER(ROUND($H27*F27,2)),ROUND($H27*F27,2),"")
A28: 18 | D28: Fill | E28: ='Extended Guarantees'!$E$15 -> 0 | F28: ='Extended Guarantees'!$K$15 -> 0 | G28: Fill | H28: =IF(ISNUMBER(ROUND($D28*$G28,2)),ROUND($D28*$G28,2),"") | I28: =IF(ISNUMBER(ROUND($H28*E28,2)),ROUND($H28*E28,2),"") | J28: =IF(ISNUMBER(ROUND($H28*F28,2)),ROUND($H28*F28,2),"")
A29: 19 | D29: Fill | E29: ='Extended Guarantees'!$E$15 -> 0 | F29: ='Extended Guarantees'!$K$15 -> 0 | G29: Fill | H29: =IF(ISNUMBER(ROUND($D29*$G29,2)),ROUND($D29*$G29,2),"") | I29: =IF(ISNUMBER(ROUND($H29*E29,2)),ROUND($H29*E29,2),"") | J29: =IF(ISNUMBER(ROUND($H29*F29,2)),ROUND($H29*F29,2),"")
A30: 20 | D30: Fill | E30: ='Extended Guarantees'!$E$15 -> 0 | F30: ='Extended Guarantees'!$K$15 -> 0 | G30: Fill | H30: =IF(ISNUMBER(ROUND($D30*$G30,2)),ROUND($D30*$G30,2),"") | I30: =IF(ISNUMBER(ROUND($H30*E30,2)),ROUND($H30*E30,2),"") | J30: =IF(ISNUMBER(ROUND($H30*F30,2)),ROUND($H30*F30,2),"")
H39: Proposed Server Total Price (EUR) | I39: Extended Guarantee service (Standard) 1 year fee (EUR) | J39: Extended Guarantee service (Critical) 1 year fee (EUR) | K39: Standard Extended Guarantee fee for five (5) years package (EUR) | L39: Critical Extended Guarantee fee for five (5) years package (EUR)
A40: 21 | B40: Price for the proposed configuration (EUR), without installation | H40: =SUM(H11:H30) -> 0 | I40: =SUM(I11:I30) -> 0 | J40: =SUM(J11:J30) -> 0 | K40: =H40*'Extended Guarantees'!E18 -> 0 | L40: =H40*'Extended Guarantees'!K18 -> 0
B41: The purchase price including the Manufacturer Guarantee (see Section 3.4.5.1 of the Tendering Specifications), the delivery and the delivery of the Management Tools. No installation. | H41: =SUM(H23:H40) -> 0 | I41: =SUM(I23:I40) -> 0 | J41: =SUM(J23:J40) -> 0 | K41: =SUM(K23:K40) -> 0 | L41: =SUM(L23:L40) -> 0
H44: Total Price for the installation (EUR)
A45: 22 | B45: Price for the installation of the proposed configuration (EUR) | H45: 0
B46: The installation price including the hardware installation and assembly, as well as the installation of the Operating System and the installation of System and Management tools.
H48: Total Price for the installation of up to 5 servers bundle, on 1 site. (EUR)
A49: 23 | B49: Price for the installation of a bundle of 5 proposed configurations (EUR), on 1 site. | H49: 0
B50: The installation price including the hardware installation and assembly, as well as the installation of the Operating System and the installation of System and Management tools.
A54: Main options (only internal components) for the proposed configuration Standard 2 sockets rackable server
A55: The 2 installation prices provided in the 'Options (internal components)' tab apply for the components provided here below when the component needs to be installed at EUIs premises as an upgrade (no installation fee when ordered at the same time as the server and factory installed).
A58: Position | B58: Per Item
B59: Product code/ reference | C59: Description | H59: Net unit price (EUR) | I59: Extended Guarantee service (Standard) yearly fee (EUR) | J59: Extended Guarantee service (Critical) yearly fee (EUR) | K59: Standard Extended Guarantee fee for five (5) years package (EUR) | L59: Critical Extended Guarantee fee for five (5) years package (EUR)
A60: K | B60: L | C60: M | H60: N | I60: O | J60: P | K60: Q | L60: R
A61: 24 | C61: additional CPUs | H61: 0 | I61: =H61*'Extended Guarantees'!$E$15 -> 0 | J61: =H61*'Extended Guarantees'!$K$15 -> 0 | K61: ='Extended Guarantees'!$E$18*H61 -> 0 | L61: ='Extended Guarantees'!$K$18*H61 -> 0
...

Sheet Advanced 2 sockets Rackable
B2: Please fill in the yellow fields. If necessary, delete or add position lines. If necessary, replace the 'Any other component' line with a component description. Please make sure, that the 'Price for the proposed configuration' includes all related items.
A6: Proposed Configuration - Advanced 2 sockets rackable server
A8: Position | B8: Product code/ reference | C8: Description | D8: Net unit price (EUR) | E8: Extended Guarantee service (Standard) yearly fee (%) | F8: Extended Guarantee service (Critical) yearly fee (%) | G8: Quantity | H8: Total Item price (EUR) | I8: Extended Guarantee service (Standard) yearly fee (EUR) | J8: Extended Guarantee service (Critical) yearly fee (EUR) | K8: Remarks
A9: A | B9: B | C9: C | D9: D | E9: E | F9: F | G9: G | H9: H | I9: I | J9: J
C10: Example - please complete | H10: H=ROUND(D*G) | I10: I=ROUND(H*E) | J10: J=ROUND(H*F)
A11: 1 | C11: Base configuration (brief description) | D11: Fill | E11: ='Extended Guarantees'!$E$15 -> 0 | F11: ='Extended Guarantees'!$K$15 -> 0 | G11: Fill | H11: =IF(ISNUMBER(ROUND($D11*$G11,2)),ROUND($D11*$G11,2),"") | I11: =IF(ISNUMBER(ROUND($H11*$E11,2)),ROUND($H11*$E11,2),"") | J11: =IF(ISNUMBER(ROUND($H11*$F11,2)),ROUND($H11*$F11,2),"")
A12: 2 | C12: CPU | D12: Fill | E12: ='Extended Guarantees'!$E$15 -> 0 | F12: ='Extended Guarantees'!$K$15 -> 0 | G12: Fill | H12: =IF(ISNUMBER(ROUND($D12*$G12,2)),ROUND($D12*$G12,2),"") | I12: =IF(ISNUMBER(ROUND($H12*E12,2)),ROUND($H12*E12,2),"") | J12: =IF(ISNUMBER(ROUND($H12*F12,2)),ROUND($H12*F12,2),"")
A13: 3 | C13: Memory | D13: Fill | E13: ='Extended Guarantees'!$E$15 -> 0 | F13: ='Extended Guarantees'!$K$15 -> 0 | G13: Fill | H13: =IF(ISNUMBER(ROUND($D13*$G13,2)),ROUND($D13*$G13,2),"") | I13: =IF(ISNUMBER(ROUND($H13*E13,2)),ROUND($H13*E13,2),"") | J13: =IF(ISNUMBER(ROUND($H13*F13,2)),ROUND($H13*F13,2),"")
A14: 4 | C14: Internal disks | D14: Fill | E14: ='Extended Guarantees'!$E$15 -> 0 | F14: ='Extended Guarantees'!$K$15 -> 0 | G14: Fill | H14: =IF(ISNUMBER(ROUND($D14*$G14,2)),ROUND($D14*$G14,2),"") | I14: =IF(ISNUMBER(ROUND($H14*E14,2)),ROUND($H14*E14,2),"") | J14: =IF(ISNUMBER(ROUND($H14*F14,2)),ROUND($H14*F14,2),"")
A15: 5 | C15: Fibre Channel HBA | D15: Fill | E15: ='Extended Guarantees'!$E$15 -> 0 | F15: ='Extended Guarantees'!$K$15 -> 0 | G15: Fill | H15: =IF(ISNUMBER(ROUND($D15*$G15,2)),ROUND($D15*$G15,2),"") | I15: =IF(ISNUMBER(ROUND($H15*E15,2)),ROUND($H15*E15,2),"") | J15: =IF(ISNUMBER(ROUND($H15*F15,2)),ROUND($H15*F15,2),"")
A16: 6 | C16: Cluster software (only B, C, D and E) | D16: Fill | E16: ='Extended Guarantees'!$E$15 -> 0 | F16: ='Extended Guarantees'!$K$15 -> 0 | G16: Fill | H16: =IF(ISNUMBER(ROUND($D16*$G16,2)),ROUND($D16*$G16,2),"") | I16: =IF(ISNUMBER(ROUND($H16*E16,2)),ROUND($H16*E16,2),"") | J16: =IF(ISNUMBER(ROUND($H16*F16,2)),ROUND($H16*F16,2),"")
A17: 7 | C17: Monitoring software | D17: Fill | E17: ='Extended Guarantees'!$E$15 -> 0 | F17: ='Extended Guarantees'!$K$15 -> 0 | G17: Fill | H17: =IF(ISNUMBER(ROUND($D17*$G17,2)),ROUND($D17*$G17,2),"") | I17: =IF(ISNUMBER(ROUND($H17*E17,2)),ROUND($H17*E17,2),"") | J17: =IF(ISNUMBER(ROUND($H17*F17,2)),ROUND($H17*F17,2),"")
A18: 8 | C18: Remote management card | D18: Fill | E18: ='Extended Guarantees'!$E$15 -> 0 | F18: ='Extended Guarantees'!$K$15 -> 0 | G18: Fill | H18: =IF(ISNUMBER(ROUND($D18*$G18,2)),ROUND($D18*$G18,2),"") | I18: =IF(ISNUMBER(ROUND($H18*E18,2)),ROUND($H18*E18,2),"") | J18: =IF(ISNUMBER(ROUND($H18*F18,2)),ROUND($H18*F18,2),"")
A19: 9 | C19: NIC | D19: Fill | E19: ='Extended Guarantees'!$E$15 -> 0 | F19: ='Extended Guarantees'!$K$15 -> 0 | G19: Fill | H19: =IF(ISNUMBER(ROUND($D19*$G19,2)),ROUND($D19*$G19,2),"") | I19: =IF(ISNUMBER(ROUND($H19*E19,2)),ROUND($H19*E19,2),"") | J19: =IF(ISNUMBER(ROUND($H19*F19,2)),ROUND($H19*F19,2),"")
A20: 10 | C20: Any other component | D20: Fill | E20: ='Extended Guarantees'!$E$15 -> 0 | F20: ='Extended Guarantees'!$K$15 -> 0 | G20: Fill | H20: =IF(ISNUMBER(ROUND($D20*$G20,2)),ROUND($D20*$G20,2),"") | I20: =IF(ISNUMBER(ROUND($H20*E20,2)),ROUND($H20*E20,2),"") | J20: =IF(ISNUMBER(ROUND($H20*F20,2)),ROUND($H20*F20,2),"")
A21: 11 | C21: Management tools | D21: Fill | E21: ='Extended Guarantees'!$E$15 -> 0 | F21: ='Extended Guarantees'!$K$15 -> 0 | G21: Fill | H21: =IF(ISNUMBER(ROUND($D21*$G21,2)),ROUND($D21*$G21,2),"") | I21: =IF(ISNUMBER(ROUND($H21*E21,2)),ROUND($H21*E21,2),"") | J21: =IF(ISNUMBER(ROUND($H21*F21,2)),ROUND($H21*F21,2),"")
A22: 12 | D22: Fill | E22: ='Extended Guarantees'!$E$15 -> 0 | F22: ='Extended Guarantees'!$K$15 -> 0 | G22: Fill | H22: =IF(ISNUMBER(ROUND($D22*$G22,2)),ROUND($D22*$G22,2),"") | I22: =IF(ISNUMBER(ROUND($H22*E22,2)),ROUND($H22*E22,2),"") | J22: =IF(ISNUMBER(ROUND($H22*F22,2)),ROUND($H22*F22,2),"")
A23: 13 | D23: Fill | E23: ='Extended Guarantees'!$E$15 -> 0 | F23: ='Extended Guarantees'!$K$15 -> 0 | G23: Fill | H23: =IF(ISNUMBER(ROUND($D23*$G23,2)),ROUND($D23*$G23,2),"") | I23: =IF(ISNUMBER(ROUND($H23*E23,2)),ROUND($H23*E23,2),"") | J23: =IF(ISNUMBER(ROUND($H23*F23,2)),ROUND($H23*F23,2),"")
A24: 14 | D24: Fill | E24: ='Extended Guarantees'!$E$15 -> 0 | F24: ='Extended Guarantees'!$K$15 -> 0 | G24: Fill | H24: =IF(ISNUMBER(ROUND($D24*$G24,2)),ROUND($D24*$G24,2),"") | I24: =IF(ISNUMBER(ROUND($H24*E24,2)),ROUND($H24*E24,2),"") | J24: =IF(ISNUMBER(ROUND($H24*F24,2)),ROUND($H24*F24,2),"")
A25: 15 | D25: Fill | E25: ='Extended Guarantees'!$E$15 -> 0 | F25: ='Extended Guarantees'!$K$15 -> 0 | G25: Fill | H25: =IF(ISNUMBER(ROUND($D25*$G25,2)),ROUND($D25*$G25,2),"") | I25: =IF(ISNUMBER(ROUND($H25*E25,2)),ROUND($H25*E25,2),"") | J25: =IF(ISNUMBER(ROUND($H25*F25,2)),ROUND($H25*F25,2),"")
A26: 16 | D26: Fill | E26: ='Extended Guarantees'!$E$15 -> 0 | F26: ='Extended Guarantees'!$K$15 -> 0 | G26: Fill | H26: =IF(ISNUMBER(ROUND($D26*$G26,2)),ROUND($D26*$G26,2),"") | I26: =IF(ISNUMBER(ROUND($H26*E26,2)),ROUND($H26*E26,2),"") | J26: =IF(ISNUMBER(ROUND($H26*F26,2)),ROUND($H26*F26,2),"")
A27: 17 | D27: Fill | E27: ='Extended Guarantees'!$E$15 -> 0 | F27: ='Extended Guarantees'!$K$15 -> 0 | G27: Fill | H27: =IF(ISNUMBER(ROUND($D27*$G27,2)),ROUND($D27*$G27,2),"") | I27: =IF(ISNUMBER(ROUND($H27*E27,2)),ROUND($H27*E27,2),"") | J27: =IF(ISNUMBER(ROUND($H27*F27,2)),ROUND($H27*F27,2),"")
A28: 18 | D28: Fill | E28: ='Extended Guarantees'!$E$15 -> 0 | F28: ='Extended Guarantees'!$K$15 -> 0 | G28: Fill | H28: =IF(ISNUMBER(ROUND($D28*$G28,2)),ROUND($D28*$G28,2),"") | I28: =IF(ISNUMBER(ROUND($H28*E28,2)),ROUND($H28*E28,2),"") | J28: =IF(ISNUMBER(ROUND($H28*F28,2)),ROUND($H28*F28,2),"")
A29: 19 | D29: Fill | E29: ='Extended Guarantees'!$E$15 -> 0 | F29: ='Extended Guarantees'!$K$15 -> 0 | G29: Fill | H29: =IF(ISNUMBER(ROUND($D29*$G29,2)),ROUND($D29*$G29,2),"") | I29: =IF(ISNUMBER(ROUND($H29*E29,2)),ROUND($H29*E29,2),"") | J29: =IF(ISNUMBER(ROUND($H29*F29,2)),ROUND($H29*F29,2),"")
A30: 20 | D30: Fill | E30: ='Extended Guarantees'!$E$15 -> 0 | F30: ='Extended Guarantees'!$K$15 -> 0 | G30: Fill | H30: =IF(ISNUMBER(ROUND($D30*$G30,2)),ROUND($D30*$G30,2),"") | I30: =IF(ISNUMBER(ROUND($H30*E30,2)),ROUND($H30*E30,2),"") | J30: =IF(ISNUMBER(ROUND($H30*F30,2)),ROUND($H30*F30,2),"")
H38: Proposed Server Total Price (EUR) | I38: Extended Guarantee service (Standard) 1 year fee (EUR) | J38: Extended Guarantee service (Critical) 1 year fee (EUR) | K38: Standard Extended Guarantee fee for five (5) years package (EUR) | L38: Critical Extended Guarantee fee for five (5) years package (EUR)
A39: 21 | B39: Price for the proposed configuration (EUR), without installation | H39: =SUM(H11:H30) -> 0 | I39: =SUM(I11:I30) -> 0 | J39: =SUM(J11:J30) -> 0 | K39: =H39*'Extended Guarantees'!E18 -> 0 | L39: =H39*'Extended Guarantees'!K18 -> 0
B40: The purchase price including the Manufacturer Guarantee (see Section 3.4.5.1 of the Tendering Specifications), the delivery and the delivery of the Management Tools. No installation. | H40: =SUM(H22:H39) -> 0 | I40: =SUM(I22:I39) -> 0 | J40: =SUM(J22:J39) -> 0 | L40: =SUM(L22:L39) -> 0
H42: Proposed Server Total Price for the installation (EUR)
A43: 22 | B43: Price for the installation of the proposed configuration (EUR) | H43: 0
B44: The installation price including the hardware installation and assembly, as well as the installation of the Operating System and the installation of System and Management tools.
H47: Total Price for the installation of up to 5 servers bundle, on 1 site. (EUR)
A48: 23 | B48: Price for the installation of a bundle of 5 proposed configurations (EUR), on 1 site. | H48: 0
B49: The installation price including the hardware installation and assembly, as well as the installation of the Operating System and the installation of System and Management tools.
A52: Main options (only internal components) for the proposed configuration Advanced 2 sockets rackable server
A53: The 2 installation prices provided in the 'Options (internal components)' tab apply for the components provided here below when the component needs to be installed at EUIs premises as an upgrade (no installation fee when ordered at the same time as the server and factory installed).
A55: Position | B55: Per Item
B56: Product code/ reference | C56: Description | H56: Net unit price (EUR) | I56: Extended Guarantee service (Standard) yearly fee (EUR) | J56: Extended Guarantee service (Critical) yearly fee (EUR) | K56: Standard Extended Guarantee fee for five (5) years package (EUR) | L56: Critical Extended Guarantee fee for five (5) years package (EUR)
A57: K | B57: L | C57: M | H57: N | I57: O | J57: P | K57: Q | L57: R
A58: 24 | C58: additional CPUs | H58: 0 | I58: =H58*'Extended Guarantees'!$E$15 -> 0 | J58: =H58*'Extended Guarantees'!$K$15 -> 0 | K58: ='Extended Guarantees'!$E$18*H58 -> 0 | L58: ='Extended Guarantees'!$K$18*H58 -> 0
...

Sheet Standard 4 sockets Rackable
B2: Please fill in the yellow fields. If necessary, delete or add position lines. If necessary, replace the 'Any other component' line with a component description. Please make sure, that the 'Price for the proposed configuration' includes all related items.
A6: Proposed Configuration Standard 4 sockets rackable server
A8: Position | B8: Product code/ reference | C8: Description | D8: Net unit price (EUR) | E8: Extended Guarantee service (Standard) yearly fee (%) | F8: Extended Guarantee service (Critical) yearly fee (%) | G8: Quantity | H8: Total Item price (EUR) | I8: Extended Guarantee service (Standard) yearly fee (EUR) | J8: Extended Guarantee service (Critical) yearly fee (EUR) | K8: Remarks
A9: A | B9: B | C9: C | D9: D | E9: E | F9: F | G9: G | H9: H | I9: I | J9: J
C10: Example - please complete | H10: H=ROUND(D*G) | I10: I=ROUND(H*E) | J10: J=ROUND(H*F)
A11: 1 | C11: Base configuration (brief description) | D11: Fill | E11: ='Extended Guarantees'!$E$15 -> 0 | F11: ='Extended Guarantees'!$K$15 -> 0 | G11: Fill | H11: =IF(ISNUMBER(ROUND($D11*$G11,2)),ROUND($D11*$G11,2),"") | I11: =IF(ISNUMBER(ROUND($H11*$E11,2)),ROUND($H11*$E11,2),"") | J11: =IF(ISNUMBER(ROUND($H11*$F11,2)),ROUND($H11*$F11,2),"")
A12: 2 | C12: CPU | D12: Fill | E12: ='Extended Guarantees'!$E$15 -> 0 | F12: ='Extended Guarantees'!$K$15 -> 0 | G12: Fill | H12: =IF(ISNUMBER(ROUND($D12*$G12,2)),ROUND($D12*$G12,2),"") | I12: =IF(ISNUMBER(ROUND($H12*E12,2)),ROUND($H12*E12,2),"") | J12: =IF(ISNUMBER(ROUND($H12*F12,2)),ROUND($H12*F12,2),"")
A13: 3 | C13: Memory | D13: Fill | E13: ='Extended Guarantees'!$E$15 -> 0 | F13: ='Extended Guarantees'!$K$15 -> 0 | G13: Fill | H13: =IF(ISNUMBER(ROUND($D13*$G13,2)),ROUND($D13*$G13,2),"") | I13: =IF(ISNUMBER(ROUND($H13*E13,2)),ROUND($H13*E13,2),"") | J13: =IF(ISNUMBER(ROUND($H13*F13,2)),ROUND($H13*F13,2),"")
A14: 4 | C14: Internal disks | D14: Fill | E14: ='Extended Guarantees'!$E$15 -> 0 | F14: ='Extended Guarantees'!$K$15 -> 0 | G14: Fill | H14: =IF(ISNUMBER(ROUND($D14*$G14,2)),ROUND($D14*$G14,2),"") | I14: =IF(ISNUMBER(ROUND($H14*E14,2)),ROUND($H14*E14,2),"") | J14: =IF(ISNUMBER(ROUND($H14*F14,2)),ROUND($H14*F14,2),"")
A15: 5 | C15: Fibre Channel HBA | D15: Fill | E15: ='Extended Guarantees'!$E$15 -> 0 | F15: ='Extended Guarantees'!$K$15 -> 0 | G15: Fill | H15: =IF(ISNUMBER(ROUND($D15*$G15,2)),ROUND($D15*$G15,2),"") | I15: =IF(ISNUMBER(ROUND($H15*E15,2)),ROUND($H15*E15,2),"") | J15: =IF(ISNUMBER(ROUND($H15*F15,2)),ROUND($H15*F15,2),"")
A16: 6 | C16: Cluster software (only B, C, D and E) | D16: Fill | E16: ='Extended Guarantees'!$E$15 -> 0 | F16: ='Extended Guarantees'!$K$15 -> 0 | G16: Fill | H16: =IF(ISNUMBER(ROUND($D16*$G16,2)),ROUND($D16*$G16,2),"") | I16: =IF(ISNUMBER(ROUND($H16*E16,2)),ROUND($H16*E16,2),"") | J16: =IF(ISNUMBER(ROUND($H16*F16,2)),ROUND($H16*F16,2),"")
A17: 7 | C17: Monitoring software | D17: Fill | E17: ='Extended Guarantees'!$E$15 -> 0 | F17: ='Extended Guarantees'!$K$15 -> 0 | G17: Fill | H17: =IF(ISNUMBER(ROUND($D17*$G17,2)),ROUND($D17*$G17,2),"") | I17: =IF(ISNUMBER(ROUND($H17*E17,2)),ROUND($H17*E17,2),"") | J17: =IF(ISNUMBER(ROUND($H17*F17,2)),ROUND($H17*F17,2),"")
A18: 8 | C18: Remote management card | D18: Fill | E18: ='Extended Guarantees'!$E$15 -> 0 | F18: ='Extended Guarantees'!$K$15 -> 0 | G18: Fill | H18: =IF(ISNUMBER(ROUND($D18*$G18,2)),ROUND($D18*$G18,2),"") | I18: =IF(ISNUMBER(ROUND($H18*E18,2)),ROUND($H18*E18,2),"") | J18: =IF(ISNUMBER(ROUND($H18*F18,2)),ROUND($H18*F18,2),"")
A19: 9 | C19: NIC | D19: Fill | E19: ='Extended Guarantees'!$E$15 -> 0 | F19: ='Extended Guarantees'!$K$15 -> 0 | G19: Fill | H19: =IF(ISNUMBER(ROUND($D19*$G19,2)),ROUND($D19*$G19,2),"") | I19: =IF(ISNUMBER(ROUND($H19*E19,2)),ROUND($H19*E19,2),"") | J19: =IF(ISNUMBER(ROUND($H19*F19,2)),ROUND($H19*F19,2),"")
A20: 10 | C20: Any other component | D20: Fill | E20: ='Extended Guarantees'!$E$15 -> 0 | F20: ='Extended Guarantees'!$K$15 -> 0 | G20: Fill | H20: =IF(ISNUMBER(ROUND($D20*$G20,2)),ROUND($D20*$G20,2),"") | I20: =IF(ISNUMBER(ROUND($H20*E20,2)),ROUND($H20*E20,2),"") | J20: =IF(ISNUMBER(ROUND($H20*F20,2)),ROUND($H20*F20,2),"")
A21: 11 | C21: Management Tools | D21: Fill | E21: ='Extended Guarantees'!$E$15 -> 0 | F21: ='Extended Guarantees'!$K$15 -> 0 | G21: Fill | H21: =IF(ISNUMBER(ROUND($D21*$G21,2)),ROUND($D21*$G21,2),"") | I21: =IF(ISNUMBER(ROUND($H21*E21,2)),ROUND($H21*E21,2),"") | J21: =IF(ISNUMBER(ROUND($H21*F21,2)),ROUND($H21*F21,2),"")
A22: 12 | D22: Fill | E22: ='Extended Guarantees'!$E$15 -> 0 | F22: ='Extended Guarantees'!$K$15 -> 0 | G22: Fill | H22: =IF(ISNUMBER(ROUND($D22*$G22,2)),ROUND($D22*$G22,2),"") | I22: =IF(ISNUMBER(ROUND($H22*E22,2)),ROUND($H22*E22,2),"") | J22: =IF(ISNUMBER(ROUND($H22*F22,2)),ROUND($H22*F22,2),"")
A23: 13 | D23: Fill | E23: ='Extended Guarantees'!$E$15 -> 0 | F23: ='Extended Guarantees'!$K$15 -> 0 | G23: Fill | H23: =IF(ISNUMBER(ROUND($D23*$G23,2)),ROUND($D23*$G23,2),"") | I23: =IF(ISNUMBER(ROUND($H23*E23,2)),ROUND($H23*E23,2),"") | J23: =IF(ISNUMBER(ROUND($H23*F23,2)),ROUND($H23*F23,2),"")
A24: 14 | D24: Fill | E24: ='Extended Guarantees'!$E$15 -> 0 | F24: ='Extended Guarantees'!$K$15 -> 0 | G24: Fill | H24: =IF(ISNUMBER(ROUND($D24*$G24,2)),ROUND($D24*$G24,2),"") | I24: =IF(ISNUMBER(ROUND($H24*E24,2)),ROUND($H24*E24,2),"") | J24: =IF(ISNUMBER(ROUND($H24*F24,2)),ROUND($H24*F24,2),"")
A25: 15 | D25: Fill | E25: ='Extended Guarantees'!$E$15 -> 0 | F25: ='Extended Guarantees'!$K$15 -> 0 | G25: Fill | H25: =IF(ISNUMBER(ROUND($D25*$G25,2)),ROUND($D25*$G25,2),"") | I25: =IF(ISNUMBER(ROUND($H25*E25,2)),ROUND($H25*E25,2),"") | J25: =IF(ISNUMBER(ROUND($H25*F25,2)),ROUND($H25*F25,2),"")
A26: 16 | D26: Fill | E26: ='Extended Guarantees'!$E$15 -> 0 | F26: ='Extended Guarantees'!$K$15 -> 0 | G26: Fill | H26: =IF(ISNUMBER(ROUND($D26*$G26,2)),ROUND($D26*$G26,2),"") | I26: =IF(ISNUMBER(ROUND($H26*E26,2)),ROUND($H26*E26,2),"") | J26: =IF(ISNUMBER(ROUND($H26*F26,2)),ROUND($H26*F26,2),"")
A27: 17 | D27: Fill | E27: ='Extended Guarantees'!$E$15 -> 0 | F27: ='Extended Guarantees'!$K$15 -> 0 | G27: Fill | H27: =IF(ISNUMBER(ROUND($D27*$G27,2)),ROUND($D27*$G27,2),"") | I27: =IF(ISNUMBER(ROUND($H27*E27,2)),ROUND($H27*E27,2),"") | J27: =IF(ISNUMBER(ROUND($H27*F27,2)),ROUND($H27*F27,2),"")
A28: 18 | D28: Fill | E28: ='Extended Guarantees'!$E$15 -> 0 | F28: ='Extended Guarantees'!$K$15 -> 0 | G28: Fill | H28: =IF(ISNUMBER(ROUND($D28*$G28,2)),ROUND($D28*$G28,2),"") | I28: =IF(ISNUMBER(ROUND($H28*E28,2)),ROUND($H28*E28,2),"") | J28: =IF(ISNUMBER(ROUND($H28*F28,2)),ROUND($H28*F28,2),"")
A29: 19 | D29: Fill | E29: ='Extended Guarantees'!$E$15 -> 0 | F29: ='Extended Guarantees'!$K$15 -> 0 | G29: Fill | H29: =IF(ISNUMBER(ROUND($D29*$G29,2)),ROUND($D29*$G29,2),"") | I29: =IF(ISNUMBER(ROUND($H29*E29,2)),ROUND($H29*E29,2),"") | J29: =IF(ISNUMBER(ROUND($H29*F29,2)),ROUND($H29*F29,2),"")
A30: 20 | D30: Fill | E30: ='Extended Guarantees'!$E$15 -> 0 | F30: ='Extended Guarantees'!$K$15 -> 0 | G30: Fill | H30: =IF(ISNUMBER(ROUND($D30*$G30,2)),ROUND($D30*$G30,2),"") | I30: =IF(ISNUMBER(ROUND($H30*E30,2)),ROUND($H30*E30,2),"") | J30: =IF(ISNUMBER(ROUND($H30*F30,2)),ROUND($H30*F30,2),"")
H38: Proposed Server Total Price (EUR) | I38: Extended Guarantee service (Standard) 1 year fee (EUR) | J38: Extended Guarantee service (Critical) 1 year fee (EUR) | K38: Standard Extended Guarantee fee for five (5) years package | L38: Critical Extended Guarantee fee for five (5) years package
A39: 21 | B39: Price for the proposed configuration (EUR), without installation | H39: =SUM(H11:H30) -> 0 | I39: =SUM(I11:I30) -> 0 | J39: =SUM(J11:J30) -> 0 | K39: =H39*'Extended Guarantees'!E18 -> 0 | L39: =H39*'Extended Guarantees'!K18 -> 0
B40: The purchase price including the Manufacturer Guarantee (see Section 3.4.5.1 of the Tendering Specifications), the delivery and the delivery of the Management Tools. No installation. | H40: =SUM(H22:H39) -> 0 | I40: =SUM(I22:I39) -> 0 | J40: =SUM(J22:J39) -> 0 | K40: =SUM(K22:K39) -> 0 | L40: =SUM(L22:L39) -> 0
H42: Proposed Server Total Price for the installation (EUR)
A43: 22 | B43: Price for the installation of the proposed configuration (EUR) | H43: 0
B44: The installation price including the hardware installation and assembly, as well as the installation of the Operating System and the installation of System and Management tools.
H48: Total Price for the installation of up to 5 servers bundle, on 1 site. (EUR)
A49: 23 | B49: Price for the installation of a bundle of 5 proposed configurations (EUR), on 1 site. | H49: 0
B50: The installation price including the hardware installation and assembly, as well as the installation of the Operating System and the installation of System and Management tools.
A54: Main options (only internal components) for the proposed configuration Standard 4 sockets rackable server
A55: The 2 installation prices provided in the 'Options (internal components)' tab apply for the components provided here below when the component needs to be installed at EUIs premises as an upgrade (no installation fee when ordered at the same time as the server and factory installed).
A59: Position | B59: Per Item
B60: Product code/ reference | C60: Description | H60: Net unit price (EUR) | I60: Extended Guarantee service (Standard) yearly fee (EUR) | J60: Extended Guarantee service (Critical) yearly fee (EUR) | K60: Standard Extended Guarantee fee for five (5) years package (EUR) | L60: Critical Extended Guarantee fee for five (5) years package (EUR)
A61: K | B61: L | C61: M | H61: N | I61: O | J61: P | K61: Q | L61: R
A62: 24 | C62: additional CPUs | H62: 0 | I62: =H62*'Extended Guarantees'!$E$15 -> 0 | J62: =H62*'Extended Guarantees'!$K$15 -> 0 | K62: ='Extended Guarantees'!$E$18*H62 -> 0 | L62: ='Extended Guarantees'!$K$18*H62 -> 0
...

Sheet Advanced 4 sockets Rackable
B2: Please fill in the yellow fields. If necessary, delete or add position lines. If necessary, replace the 'Any other component' line with a component description. Please make sure, that the 'Price for the proposed configuration' includes all related items.
A6: Proposed Configuration - Advanced 4 sockets rackable server
A8: Position | B8: Product code/ reference | C8: Description | D8: Net unit price (EUR) | E8: Extended Guarantee service (Standard) yearly fee (%) | F8: Extended Guarantee service (Critical) yearly fee (%) | G8: Quantity | H8: Total Item price (EUR) | I8: Extended Guarantee service (Standard) yearly fee (EUR) | J8: Extended Guarantee service (Critical) yearly fee (EUR) | K8: Remarks
A9: A | B9: B | C9: C | D9: D | E9: E | F9: F | G9: G | H9: H | I9: I | J9: J
C10: Example - please complete | H10: H=ROUND(D*G) | I10: I=ROUND(H*E) | J10: J=ROUND(H*F)
A11: 1 | C11: Base configuration (brief description) | D11: Fill | E11: ='Extended Guarantees'!$E$15 -> 0 | F11: ='Extended Guarantees'!$K$15 -> 0 | G11: Fill | H11: =IF(ISNUMBER(ROUND($D11*$G11,2)),ROUND($D11*$G11,2),"") | I11: =IF(ISNUMBER(ROUND($H11*$E11,2)),ROUND($H11*$E11,2),"") | J11: =IF(ISNUMBER(ROUND($H11*$F11,2)),ROUND($H11*$F11,2),"")
A12: 2 | C12: CPU | D12: Fill | E12: ='Extended Guarantees'!$E$15 -> 0 | F12: ='Extended Guarantees'!$K$15 -> 0 | G12: Fill | H12: =IF(ISNUMBER(ROUND($D12*$G12,2)),ROUND($D12*$G12,2),"") | I12: =IF(ISNUMBER(ROUND($H12*E12,2)),ROUND($H12*E12,2),"") | J12: =IF(ISNUMBER(ROUND($H12*F12,2)),ROUND($H12*F12,2),"")
